BEGIN:VCALENDAR
VERSION:2.0
PRODID:-//Gemeinschaft der Priwallbewohner e.V. - ECPv6.15.20//NONSGML v1.0//EN
CALSCALE:GREGORIAN
METHOD:PUBLISH
X-WR-CALNAME:Gemeinschaft der Priwallbewohner e.V.
X-ORIGINAL-URL:https://priwallbewohner.de
X-WR-CALDESC:Veranstaltungen für Gemeinschaft der Priwallbewohner e.V.
REFRESH-INTERVAL;VALUE=DURATION:PT1H
X-Robots-Tag:noindex
X-PUBLISHED-TTL:PT1H
BEGIN:VTIMEZONE
TZID:Europe/Berlin
BEGIN:DAYLIGHT
TZOFFSETFROM:+0100
TZOFFSETTO:+0200
TZNAME:CEST
DTSTART:20250330T010000
END:DAYLIGHT
BEGIN:STANDARD
TZOFFSETFROM:+0200
TZOFFSETTO:+0100
TZNAME:CET
DTSTART:20251026T010000
END:STANDARD
BEGIN:DAYLIGHT
TZOFFSETFROM:+0100
TZOFFSETTO:+0200
TZNAME:CEST
DTSTART:20260329T010000
END:DAYLIGHT
BEGIN:STANDARD
TZOFFSETFROM:+0200
TZOFFSETTO:+0100
TZNAME:CET
DTSTART:20261025T010000
END:STANDARD
BEGIN:DAYLIGHT
TZOFFSETFROM:+0100
TZOFFSETTO:+0200
TZNAME:CEST
DTSTART:20270328T010000
END:DAYLIGHT
BEGIN:STANDARD
TZOFFSETFROM:+0200
TZOFFSETTO:+0100
TZNAME:CET
DTSTART:20271031T010000
END:STANDARD
END:VTIMEZONE
BEGIN:VEVENT
DTSTART;TZID=Europe/Berlin:20260307T090000
DTEND;TZID=Europe/Berlin:20260307T120000
DTSTAMP:20260422T163540
CREATED:20260219T213141Z
LAST-MODIFIED:20260219T213531Z
UID:2447-1772874000-1772884800@priwallbewohner.de
SUMMARY:Aktion Sauberes Lübeck 7.3.2026 9:00Uhr
DESCRIPTION:Sonnabend\, 7. März\, 2026 von 09:00 bis 12:00Uhr \nTreffpunkt 09:00 Uhr „Naturwerkstatt“ im Fliegerweg \nZum Abschluss gibt es auch noch eine Stärkung! \nBitte kommt alle zum großen Saubermachen!!
URL:https://priwallbewohner.de/event/priwall-schmueckt-der-beach-bay-2-2-4/
ATTACH;FMTTYPE=image/jpeg:https://priwallbewohner.de/wp-content/uploads/2026/02/L1006119ovov.jpg
END:VEVENT
BEGIN:VEVENT
DTSTART;TZID=Europe/Berlin:20260311T140000
DTEND;TZID=Europe/Berlin:20260311T160000
DTSTAMP:20260422T163540
CREATED:20251005T082355Z
LAST-MODIFIED:20260205T200332Z
UID:2121-1773237600-1773244800@priwallbewohner.de
SUMMARY:BINGO !!!
DESCRIPTION:Hallo liebe MitspielerInnen !!! \nFür 4.- € Einsatz „ der Große Gewinn!!“ \nEs kann nur teilnehmen\, wer sich angemeldet hat !! \nRestaurant „Surf & Turf“  \nTeilnehmer bitte bei Frau Hilde Gottschalk anmelden \neMail: familie-gottschalk@gmx.de  \noder \nTelefonisch: 0172 416 1519 \nDer Vorstand der Gemeinschaft der Priwallbewohner e.V.
URL:https://priwallbewohner.de/event/bingo-3/
ATTACH;FMTTYPE=image/jpeg:https://priwallbewohner.de/wp-content/uploads/2024/03/AdobeStock_391409414-scaled.jpeg
END:VEVENT
BEGIN:VEVENT
DTSTART;TZID=Europe/Berlin:20260312T180000
DTEND;TZID=Europe/Berlin:20260312T180000
DTSTAMP:20260422T163540
CREATED:20250223T162007Z
LAST-MODIFIED:20251214T225034Z
UID:1635-1773338400-1773338400@priwallbewohner.de
SUMMARY:Treffpunkt & Stammtisch
DESCRIPTION:im „Moin‘sen“ ab 18:00 Uhr immer jeden 1. Donnerstag im Monat
URL:https://priwallbewohner.de/event/stammtisch-8/
ATTACH;FMTTYPE=image/jpeg:https://priwallbewohner.de/wp-content/uploads/2024/09/CW-Stammtisch-Foto-Christian-scaled.jpg
END:VEVENT
BEGIN:VEVENT
DTSTART;TZID=Europe/Berlin:20260316T170000
DTEND;TZID=Europe/Berlin:20260316T203000
DTSTAMP:20260422T163540
CREATED:20251014T200116Z
LAST-MODIFIED:20260221T180008Z
UID:2205-1773680400-1773693000@priwallbewohner.de
SUMMARY:Öffentliche Info Veranstaltung "Die Zukunft des Waldes auf dem Priwall"
DESCRIPTION:Wann: 16. März 2026 \nInfo Abend „Die Zukunft des Waldes auf dem Priwall“ \n\nDas geht uns alle an\, wie es mit der Begrünung unseres Priwall Waldes bestellt ist\, warum abgeholzt wird und wie die Zukunft gestaltet wird.\nDazu haben wir einen Vortrag von Diplom-Forstwirt Hannes Napp\, der uns erklären wird warum auch in unserem Wald einmal abgeholzt werden muss.\n \nDie Veranstaltung ist wie immer offen für die gesamte Bevölkerung\, kostenfrei & informativ! \nOrt: „Seglermesse“ \nEinlass mit Essen: 17:00 \nStart der Info Veranstaltung: 18:30 \nAnmeldung wie gewohnt in der „Seglermesse“ bei Andrea Grube. \nTel: 04502 / 50 62 oder per eMail: andreagrubep@aol.com \nEs gibt passend zum Thema ein Spezialgericht zum Sonderpreis: \n\nFalscher Hase mit grünen Bohnen und Kartoffeln – 12\,50 €\n\nWer das Spezialgericht genießen möchte\, bitte bei der Anmeldung angeben. \nEs wird Zeit sein für Fragen & Antworten! Wir freuen uns über zahlreiches Erscheinen!  \nIm Namen des Vorstandes der Priwallbewohner \nChristian Wölbeling
URL:https://priwallbewohner.de/event/oeffentliche-info-veranstaltung-zum-thema-planen-bauen-2/
LOCATION:Seglermesse\, Priwallpromenade 33\, Travemünde\, 23570
ATTACH;FMTTYPE=image/jpeg:https://priwallbewohner.de/wp-content/uploads/2024/03/IMG_1378-scaled.jpg
END:VEVENT
BEGIN:VEVENT
DTSTART;TZID=Europe/Berlin:20260326T183000
DTEND;TZID=Europe/Berlin:20260326T183000
DTSTAMP:20260422T163540
CREATED:20260219T212539Z
LAST-MODIFIED:20260221T181058Z
UID:2442-1774549800-1774549800@priwallbewohner.de
SUMMARY:Mitgliederversammlung 2026
DESCRIPTION:Einladung zur Mitgliederversammlung 2026!\nTermin: Donnerstag\, 26. März 2026 \nOrt: „Seglermesse“ \nEinlass mit Essen: 17:00 \nStart der Mitgliederversammlung: 18:30 \nAnmeldung wie gewohnt in der „Seglermesse“ bei Andrea Grube. \nTel: 04502 / 50 62 oder per eMail: andreagrubep@aol.com \nEs gibt ein Spezialgericht zum Sonderpreis: \n\nKönigsberger Klopse mit Kartoffeln und rote Beete – 12\,50 €\n\nWer das Spezialgericht genießen möchte\, bitte bei der Anmeldung angeben. \nTagesordnung: \n\nEröffnung und Begrüßung\nGedenken an die im letzten Jahr verstorbenen Mitglieder\nDiskussion und Abstimmung über fristgerecht eingegangene Anträge\nGenehmigung der vorläufigen Tagesordnung\nGenehmigung des Protokolls der Mitgliederversammlung März 2025\nBericht des Vorsitzenden über das abgelaufene Geschäftsjahr 2025\nBericht des Vorstandes über das kommende Geschäftsjahr 2026\nRechenschaftsbericht des Kassenwartes für das Geschäftsjahr 2025\nPrüfbericht der Kassenprüfer\nAussprache und Entlastung des Vorstandes\nTurnusmäßige Wahlen:\n\n2. Vorsitzende:r\nKassenwart:in (In den Turnus zurück)\n2. Beisitzer:in\n3. Beisitzer:in\n4. Beisitzer:in\nKassenprüfer:innen\n\n\nVorstellung des neuen Konzeptes „Familien Freizeit auf dem Priwall“ (FFP)\nVerschiedenes\n\nAnträge auf Ergänzungen oder Änderungen der Tagesordnung müssen mindestens 10 Tage vor der Mitgliederversammlung eingegangen sein. \nPer eMail an:  info@priwallbewohner.de oder per Post an: Gemeinschaft der Priwallbewohner e.V.\, Helling 29\, 23570 Lübeck / Travemünde \nEuer Vorstand der Gemeinschaft der Priwallbewohner e.V.
URL:https://priwallbewohner.de/event/blaufahrt-2024-2-2-2/
ATTACH;FMTTYPE=image/jpeg:https://priwallbewohner.de/wp-content/uploads/2024/03/AdobeStock_519112102-scaled.jpeg
END:VEVENT
END:VCALENDAR