BEGIN:VCALENDAR
VERSION:2.0
PRODID:-//Gemeinschaft der Priwallbewohner e.V. - ECPv6.15.20//NONSGML v1.0//EN
CALSCALE:GREGORIAN
METHOD:PUBLISH
X-WR-CALNAME:Gemeinschaft der Priwallbewohner e.V.
X-ORIGINAL-URL:https://priwallbewohner.de
X-WR-CALDESC:Veranstaltungen für Gemeinschaft der Priwallbewohner e.V.
REFRESH-INTERVAL;VALUE=DURATION:PT1H
X-Robots-Tag:noindex
X-PUBLISHED-TTL:PT1H
BEGIN:VTIMEZONE
TZID:Europe/Berlin
BEGIN:DAYLIGHT
TZOFFSETFROM:+0100
TZOFFSETTO:+0200
TZNAME:CEST
DTSTART:20250330T010000
END:DAYLIGHT
BEGIN:STANDARD
TZOFFSETFROM:+0200
TZOFFSETTO:+0100
TZNAME:CET
DTSTART:20251026T010000
END:STANDARD
BEGIN:DAYLIGHT
TZOFFSETFROM:+0100
TZOFFSETTO:+0200
TZNAME:CEST
DTSTART:20260329T010000
END:DAYLIGHT
BEGIN:STANDARD
TZOFFSETFROM:+0200
TZOFFSETTO:+0100
TZNAME:CET
DTSTART:20261025T010000
END:STANDARD
BEGIN:DAYLIGHT
TZOFFSETFROM:+0100
TZOFFSETTO:+0200
TZNAME:CEST
DTSTART:20270328T010000
END:DAYLIGHT
BEGIN:STANDARD
TZOFFSETFROM:+0200
TZOFFSETTO:+0100
TZNAME:CET
DTSTART:20271031T010000
END:STANDARD
END:VTIMEZONE
BEGIN:VEVENT
DTSTART;TZID=Europe/Berlin:20260108T190000
DTEND;TZID=Europe/Berlin:20260108T190000
DTSTAMP:20260422T194515
CREATED:20251214T224737Z
LAST-MODIFIED:20251214T224737Z
UID:2422-1767898800-1767898800@priwallbewohner.de
SUMMARY:Stadtteil Konferenz Travemünde
DESCRIPTION:Donnerstag\, 8. Januar\, 2026\, 19:00 Uhr im A-Rosa Hotel\, Außenallee 10\, Travemünde \nBitte erscheint Zahlreich und nutzt die Gelegenheit die Politik zu treffen!
URL:https://priwallbewohner.de/event/stadtteil-konferenz-travemuende/
LOCATION:A-Rosa Hotel\, Außenallee 10\, Lübeck\, 23570\, Germany
ATTACH;FMTTYPE=image/png:https://priwallbewohner.de/wp-content/uploads/2025/12/Screenshot-2025-12-14-234227.png
END:VEVENT
END:VCALENDAR